BEGIN:VCALENDAR
VERSION:2.0
PRODID:-//Gasthaus Schiff - ECPv6.15.20//NONSGML v1.0//EN
CALSCALE:GREGORIAN
METHOD:PUBLISH
X-ORIGINAL-URL:https://freiburgerschiff.de
X-WR-CALDESC:Veranstaltungen für Gasthaus Schiff
REFRESH-INTERVAL;VALUE=DURATION:PT1H
X-Robots-Tag:noindex
X-PUBLISHED-TTL:PT1H
BEGIN:VTIMEZONE
TZID:Europe/Berlin
BEGIN:DAYLIGHT
TZOFFSETFROM:+0100
TZOFFSETTO:+0200
TZNAME:CEST
DTSTART:20250330T010000
END:DAYLIGHT
BEGIN:STANDARD
TZOFFSETFROM:+0200
TZOFFSETTO:+0100
TZNAME:CET
DTSTART:20251026T010000
END:STANDARD
BEGIN:DAYLIGHT
TZOFFSETFROM:+0100
TZOFFSETTO:+0200
TZNAME:CEST
DTSTART:20260329T010000
END:DAYLIGHT
BEGIN:STANDARD
TZOFFSETFROM:+0200
TZOFFSETTO:+0100
TZNAME:CET
DTSTART:20261025T010000
END:STANDARD
BEGIN:DAYLIGHT
TZOFFSETFROM:+0100
TZOFFSETTO:+0200
TZNAME:CEST
DTSTART:20270328T010000
END:DAYLIGHT
BEGIN:STANDARD
TZOFFSETFROM:+0200
TZOFFSETTO:+0100
TZNAME:CET
DTSTART:20271031T010000
END:STANDARD
END:VTIMEZONE
BEGIN:VEVENT
DTSTART;TZID=Europe/Berlin:20260423T200000
DTEND;TZID=Europe/Berlin:20260423T220000
DTSTAMP:20260422T024659
CREATED:20260325T230651Z
LAST-MODIFIED:20260325T230651Z
UID:14583-1776974400-1776981600@freiburgerschiff.de
SUMMARY:Donnerstag\, 23.04.2026 Michael & the Coocks  (Einlass ab 20h)
DESCRIPTION:Mit ihren Eigenkompositionen bewegen sich die vier Musiker stilistisch zwischen traditionellem und modernen Bluesrock mit eigenem Bandsound. Dieser ist geprägt durch Rock- und Blues-Acts der 70er: so finden sich neben elektrischer und akustischer Gitarre auch immer E-Piano und Orgelsounds. Wer auf handgemachte Rockmusik steht sollte diese „Kochshow“ auf keinen Fall verpassen. \nEinlass ab 20h \nKonzertbeginn ca. 20h30 \nDer Eintritt ist kostenlos. Eine Hutspende ist erwünscht und geht zu 100% an die auftretenden Künstler.
URL:https://freiburgerschiff.de/event/donnerstag-23-04-2026-michael-the-coocks-einlass-ab-20h/
LOCATION:Schiff Gewölbekeller\, Schwarzwaldstr. 82\, Freiburg\, 79102\, Deutschland
CATEGORIES:Konzert
ATTACH;FMTTYPE=image/jpeg:https://freiburgerschiff.de/wp-content/uploads/2026/03/MichaeltheCooks-2026.jpg
ORGANIZER;CN="Freiburger Blues Association e. V.":MAILTO:info@f-b-a.org
END:VEVENT
BEGIN:VEVENT
DTSTART;TZID=Europe/Berlin:20260430T200000
DTEND;TZID=Europe/Berlin:20260430T220000
DTSTAMP:20260422T024659
CREATED:20260325T230913Z
LAST-MODIFIED:20260325T230913Z
UID:14586-1777579200-1777586400@freiburgerschiff.de
SUMMARY:Donnerstag\, 30.04.2026 Memberband – Abend  (Einlass ab 20h)
DESCRIPTION:Erleben Sie den Auftritt angesagter und weniger bekannter Musiker/Mitglieder des FBA. Sie präsentieren in unterschiedlicher Besetzung ein abwechslungsreiches Programm mit Blues\, Rock\, Funk bis hin zum Soul. \nEinlass ab 20h \nKonzertbeginn ca. 20h30 \nDer Eintritt ist kostenlos. Eine Hutspende ist erwünscht und geht zu 100% an die auftretenden Künstler.
URL:https://freiburgerschiff.de/event/donnerstag-30-04-2026-memberband-abend-einlass-ab-20h/
LOCATION:Schiff Gewölbekeller\, Schwarzwaldstr. 82\, Freiburg\, 79102\, Deutschland
CATEGORIES:Konzert
ATTACH;FMTTYPE=image/jpeg:https://freiburgerschiff.de/wp-content/uploads/2025/04/FBA-Memberband-klein.jpg
ORGANIZER;CN="Freiburger Blues Association e. V.":MAILTO:info@f-b-a.org
END:VEVENT
END:VCALENDAR