BEGIN:VCALENDAR
VERSION:2.0
PRODID:-//Gasthaus Schiff - ECPv6.15.20//NONSGML v1.0//EN
CALSCALE:GREGORIAN
METHOD:PUBLISH
X-WR-CALNAME:Gasthaus Schiff
X-ORIGINAL-URL:https://freiburgerschiff.de
X-WR-CALDESC:Veranstaltungen für Gasthaus Schiff
REFRESH-INTERVAL;VALUE=DURATION:PT1H
X-Robots-Tag:noindex
X-PUBLISHED-TTL:PT1H
BEGIN:VTIMEZONE
TZID:Europe/Berlin
BEGIN:DAYLIGHT
TZOFFSETFROM:+0100
TZOFFSETTO:+0200
TZNAME:CEST
DTSTART:20240331T010000
END:DAYLIGHT
BEGIN:STANDARD
TZOFFSETFROM:+0200
TZOFFSETTO:+0100
TZNAME:CET
DTSTART:20241027T010000
END:STANDARD
BEGIN:DAYLIGHT
TZOFFSETFROM:+0100
TZOFFSETTO:+0200
TZNAME:CEST
DTSTART:20250330T010000
END:DAYLIGHT
BEGIN:STANDARD
TZOFFSETFROM:+0200
TZOFFSETTO:+0100
TZNAME:CET
DTSTART:20251026T010000
END:STANDARD
BEGIN:DAYLIGHT
TZOFFSETFROM:+0100
TZOFFSETTO:+0200
TZNAME:CEST
DTSTART:20260329T010000
END:DAYLIGHT
BEGIN:STANDARD
TZOFFSETFROM:+0200
TZOFFSETTO:+0100
TZNAME:CET
DTSTART:20261025T010000
END:STANDARD
END:VTIMEZONE
BEGIN:VEVENT
DTSTART;TZID=Europe/Berlin:20250322T200000
DTEND;TZID=Europe/Berlin:20250322T223000
DTSTAMP:20260422T215418
CREATED:20250305T222721Z
LAST-MODIFIED:20250305T223009Z
UID:12830-1742673600-1742682600@freiburgerschiff.de
SUMMARY:Sa.\, 22.3.25  SKUNKED - The Black Forest Rock Connection
DESCRIPTION:SKUNKED – Rock\, der unter die Haut geht!\n \nSeit 2022 bringen vier Jungs aus Südbaden den Raum Freiburg zum Beben. Mit einem Mix aus mitreißenden Rock-Klassikern der 70er bis 90er und modernen\, aktuellen Rocksongs schaffen SKUNKED die perfekte Verbindung zwischen Nostalgie und frischem Sound.  Die Band ist mehr als nur Musik – sie ist Energie\, Leidenschaft und purer Rock. \nIhre langjährige Verbundenheit und Erfahrung sind bei jedem Ton spürbar und machen jeden Auftritt zu einem besonderen Erlebnis. Egal\, ob mitrockende Teenager oder eingefleischte Fans des Classic Rock – SKUNKED zieht jedes Publikum in den Bann und sorgt für eine Stimmung\, die so schnell keiner vergisst.
URL:https://freiburgerschiff.de/event/sa-22-3-25-skunked/
LOCATION:Schiff Gewölbekeller\, Schwarzwaldstr. 82\, Freiburg\, 79102\, Deutschland
CATEGORIES:Konzert
ATTACH;FMTTYPE=image/jpeg:https://freiburgerschiff.de/wp-content/uploads/2025/03/Skunked-22-3-25.jpeg
END:VEVENT
END:VCALENDAR