BEGIN:VCALENDAR
VERSION:2.0
PRODID:-//Gasthaus Schiff - ECPv6.15.20//NONSGML v1.0//EN
CALSCALE:GREGORIAN
METHOD:PUBLISH
X-WR-CALNAME:Gasthaus Schiff
X-ORIGINAL-URL:https://freiburgerschiff.de
X-WR-CALDESC:Veranstaltungen für Gasthaus Schiff
REFRESH-INTERVAL;VALUE=DURATION:PT1H
X-Robots-Tag:noindex
X-PUBLISHED-TTL:PT1H
BEGIN:VTIMEZONE
TZID:Europe/Berlin
BEGIN:DAYLIGHT
TZOFFSETFROM:+0100
TZOFFSETTO:+0200
TZNAME:CEST
DTSTART:20240331T010000
END:DAYLIGHT
BEGIN:STANDARD
TZOFFSETFROM:+0200
TZOFFSETTO:+0100
TZNAME:CET
DTSTART:20241027T010000
END:STANDARD
BEGIN:DAYLIGHT
TZOFFSETFROM:+0100
TZOFFSETTO:+0200
TZNAME:CEST
DTSTART:20250330T010000
END:DAYLIGHT
BEGIN:STANDARD
TZOFFSETFROM:+0200
TZOFFSETTO:+0100
TZNAME:CET
DTSTART:20251026T010000
END:STANDARD
BEGIN:DAYLIGHT
TZOFFSETFROM:+0100
TZOFFSETTO:+0200
TZNAME:CEST
DTSTART:20260329T010000
END:DAYLIGHT
BEGIN:STANDARD
TZOFFSETFROM:+0200
TZOFFSETTO:+0100
TZNAME:CET
DTSTART:20261025T010000
END:STANDARD
END:VTIMEZONE
BEGIN:VEVENT
DTSTART;TZID=Europe/Berlin:20250417T200000
DTEND;TZID=Europe/Berlin:20250417T223000
DTSTAMP:20260425T173053
CREATED:20250401T232037Z
LAST-MODIFIED:20250401T232038Z
UID:12951-1744920000-1744929000@freiburgerschiff.de
SUMMARY:Do.\,17.04.2025\, 20:00 Uhr: Schaps & the Ship of Relation
DESCRIPTION:Der 2 Meter große Singer-Songwriter Schaps geht mit seiner mächtiger Stimme und eingängigen Songs auf große Fahrt. Mit eigenen\, Schiff-kompatiblen Songs wie Lost at Sea und Flotsam&Jetsam und einer reichlich erfahrenen und hochmusikalischen Mannschaft. \nMit im Boot: MCUgh (git.)\, Rainer Trendelenburg (b.)\, Arno „Los Stickos“ Schorrer-Maier (dr.). All aboard!
URL:https://freiburgerschiff.de/event/do-17-04-2025-2000-uhr-schaps-the-ship-of-relation/
LOCATION:Schiff Gewölbekeller\, Schwarzwaldstr. 82\, Freiburg\, 79102\, Deutschland
CATEGORIES:Konzert
ATTACH;FMTTYPE=image/jpeg:https://freiburgerschiff.de/wp-content/uploads/2025/04/Schaps-by-tom-hackbarth-FBA.jpg
ORGANIZER;CN="Freiburger Blues Association e. V.":MAILTO:info@f-b-a.org
END:VEVENT
BEGIN:VEVENT
DTSTART;TZID=Europe/Berlin:20250424T200000
DTEND;TZID=Europe/Berlin:20250424T223000
DTSTAMP:20260425T173053
CREATED:20250401T232355Z
LAST-MODIFIED:20250401T232355Z
UID:12955-1745524800-1745533800@freiburgerschiff.de
SUMMARY:Do.\, 24.04.2025\, 20:00 Uhr: C.C.Music
DESCRIPTION:C.C.Music\, der Name ist Programm! So interpretiert die Band einen kleinen Ausschnitt des Spektrums von J.J. Cale und Eric Clapton. Durch ihre Liebe zum Blues\, insbesondere von Eric Clapton und JJ Cale taten sich die 5 Musiker im Sommer 2023 zusammen um den Blues in die süddeutschen Clubs zu bringen. Rolf Langenbach (git.voc.)\, Fritz Klute (git.voc.)\, Wofy Gottwalt (keys)\, Matthias Schuler (b.)\, Mitch Thompson (dr.).
URL:https://freiburgerschiff.de/event/do-24-04-2025-2000-uhr-c-c-music/
LOCATION:Schiff Gewölbekeller\, Schwarzwaldstr. 82\, Freiburg\, 79102\, Deutschland
CATEGORIES:Konzert
ATTACH;FMTTYPE=image/jpeg:https://freiburgerschiff.de/wp-content/uploads/2025/04/CCM-FBA-2025.jpg
ORGANIZER;CN="Freiburger Blues Association e. V.":MAILTO:info@f-b-a.org
END:VEVENT
BEGIN:VEVENT
DTSTART;TZID=Europe/Berlin:20250430T200000
DTEND;TZID=Europe/Berlin:20250430T223000
DTSTAMP:20260425T173053
CREATED:20250401T232620Z
LAST-MODIFIED:20250401T232620Z
UID:12958-1746043200-1746052200@freiburgerschiff.de
SUMMARY:Mi.\, 30.04.2025\, 20:00 Uhr: New Constellation Kitchen - Jam Session
DESCRIPTION:Der Jam-Abend für Musiker. Mit 6-8 Songs zum Mitjammen. Titel und Begleitband werden rechtzeitig hier und auf FBA Facebook veröffentlicht. Anmeldungen bitte an drumbo(AT)gmx.de
URL:https://freiburgerschiff.de/event/mi-30-04-2025-2000-uhr-new-constellation-kitchen-jam-session/
LOCATION:Schiff Gewölbekeller\, Schwarzwaldstr. 82\, Freiburg\, 79102\, Deutschland
CATEGORIES:Konzert
ATTACH;FMTTYPE=image/jpeg:https://freiburgerschiff.de/wp-content/uploads/2024/12/25-01-29-NCK-fb_banner_2019-JPG.jpg
ORGANIZER;CN="Freiburger Blues Association e. V.":MAILTO:info@f-b-a.org
END:VEVENT
END:VCALENDAR