BEGIN:VCALENDAR
VERSION:2.0
PRODID:-//Gasthaus Schiff - ECPv6.15.20//NONSGML v1.0//EN
CALSCALE:GREGORIAN
METHOD:PUBLISH
X-ORIGINAL-URL:https://freiburgerschiff.de
X-WR-CALDESC:Veranstaltungen für Gasthaus Schiff
REFRESH-INTERVAL;VALUE=DURATION:PT1H
X-Robots-Tag:noindex
X-PUBLISHED-TTL:PT1H
BEGIN:VTIMEZONE
TZID:Europe/Berlin
BEGIN:DAYLIGHT
TZOFFSETFROM:+0100
TZOFFSETTO:+0200
TZNAME:CEST
DTSTART:20240331T010000
END:DAYLIGHT
BEGIN:STANDARD
TZOFFSETFROM:+0200
TZOFFSETTO:+0100
TZNAME:CET
DTSTART:20241027T010000
END:STANDARD
BEGIN:DAYLIGHT
TZOFFSETFROM:+0100
TZOFFSETTO:+0200
TZNAME:CEST
DTSTART:20250330T010000
END:DAYLIGHT
BEGIN:STANDARD
TZOFFSETFROM:+0200
TZOFFSETTO:+0100
TZNAME:CET
DTSTART:20251026T010000
END:STANDARD
BEGIN:DAYLIGHT
TZOFFSETFROM:+0100
TZOFFSETTO:+0200
TZNAME:CEST
DTSTART:20260329T010000
END:DAYLIGHT
BEGIN:STANDARD
TZOFFSETFROM:+0200
TZOFFSETTO:+0100
TZNAME:CET
DTSTART:20261025T010000
END:STANDARD
END:VTIMEZONE
BEGIN:VEVENT
DTSTART;TZID=Europe/Berlin:20250525T163000
DTEND;TZID=Europe/Berlin:20250525T210000
DTSTAMP:20260422T144302
CREATED:20250524T015737Z
LAST-MODIFIED:20250524T015737Z
UID:13187-1748190600-1748206800@freiburgerschiff.de
SUMMARY:Sonntag\, 25.05.2025   "Schiff on Fire" - Grill-Event ab 17h
DESCRIPTION:Willkommen an Bord zu unserem Grill-Event „Schiff on Fire“ – jeweils am letzten Sonntag im Monat ab 17h im Schiff-Biergarten. \nAn diesem Grill-Tag gibt es eine Sonderkarte mit Salaten\, Grill- und Biergartengerichten – auch für Vegetarier. \n 
URL:https://freiburgerschiff.de/event/sonntag-25-05-2025-schiff-on-fire-grill-event-ab-17h/
LOCATION:Schiff Biergarten\, Schwarzwaldstr. 82\, Freiburg\, 79102\, Deutschland
ATTACH;FMTTYPE=image/jpeg:https://freiburgerschiff.de/wp-content/uploads/2025/05/25-05-25-Grillkarte-s2.jpg
ORGANIZER;CN="Gasthaus Schiff":MAILTO:kultur@freiburgerschiff.de
END:VEVENT
END:VCALENDAR