BEGIN:VCALENDAR
VERSION:2.0
PRODID:-//Gasthaus Schiff - ECPv6.15.20//NONSGML v1.0//EN
CALSCALE:GREGORIAN
METHOD:PUBLISH
X-ORIGINAL-URL:https://freiburgerschiff.de
X-WR-CALDESC:Veranstaltungen für Gasthaus Schiff
REFRESH-INTERVAL;VALUE=DURATION:PT1H
X-Robots-Tag:noindex
X-PUBLISHED-TTL:PT1H
BEGIN:VTIMEZONE
TZID:Europe/Berlin
BEGIN:DAYLIGHT
TZOFFSETFROM:+0100
TZOFFSETTO:+0200
TZNAME:CEST
DTSTART:20240331T010000
END:DAYLIGHT
BEGIN:STANDARD
TZOFFSETFROM:+0200
TZOFFSETTO:+0100
TZNAME:CET
DTSTART:20241027T010000
END:STANDARD
BEGIN:DAYLIGHT
TZOFFSETFROM:+0100
TZOFFSETTO:+0200
TZNAME:CEST
DTSTART:20250330T010000
END:DAYLIGHT
BEGIN:STANDARD
TZOFFSETFROM:+0200
TZOFFSETTO:+0100
TZNAME:CET
DTSTART:20251026T010000
END:STANDARD
BEGIN:DAYLIGHT
TZOFFSETFROM:+0100
TZOFFSETTO:+0200
TZNAME:CEST
DTSTART:20260329T010000
END:DAYLIGHT
BEGIN:STANDARD
TZOFFSETFROM:+0200
TZOFFSETTO:+0100
TZNAME:CET
DTSTART:20261025T010000
END:STANDARD
END:VTIMEZONE
BEGIN:VEVENT
DTSTART;TZID=Europe/Berlin:20250605T200000
DTEND;TZID=Europe/Berlin:20250605T223000
DTSTAMP:20260422T122042
CREATED:20250507T221725Z
LAST-MODIFIED:20250507T221852Z
UID:13113-1749153600-1749162600@freiburgerschiff.de
SUMMARY:Do.\, 05.06.2025\, 20:00 Uhr: Morgan Davis
DESCRIPTION:Der preisgekrönte kanadische Musiker Morgan Davis präsentiert mit Elektrogitarre\, Slide Gitarre und Cigar Box Gitarre sein großes Blues-Repertoire: \nvon Charley Patton\, Robert Johnson\, Son House\, Willie Brown über Lightnin’Hopkins\, John Lee Hooker bis Muddy Waters und Jimmy Reed. Und immer spürt man die Kraft seiner Message\, die den Blues am Leben erhält.
URL:https://freiburgerschiff.de/event/do-05-06-2025-2000-uhr-morgan-davis/
LOCATION:Schiff Gewölbekeller\, Schwarzwaldstr. 82\, Freiburg\, 79102\, Deutschland
CATEGORIES:Konzert
ATTACH;FMTTYPE=image/jpeg:https://freiburgerschiff.de/wp-content/uploads/2025/05/Morgan-Davis-FBA.jpg
ORGANIZER;CN="Freiburger Blues Association e. V.":MAILTO:info@f-b-a.org
END:VEVENT
BEGIN:VEVENT
DTSTART;TZID=Europe/Berlin:20250612T200000
DTEND;TZID=Europe/Berlin:20250612T223000
DTSTAMP:20260422T122042
CREATED:20250507T222224Z
LAST-MODIFIED:20250507T222224Z
UID:13118-1749758400-1749767400@freiburgerschiff.de
SUMMARY:Do.\, 12.06.2025\, 20:00 Uhr: Fire of Soul
DESCRIPTION:Die Band sprüht vor Spielfreude und das garantiert gute Stimmung und ein rundum zufriedenes Publikum.Die virtuosen Arrangements und großartigen Soli der Musiker tragen zu dem typischen Groove der Band bei. \nHeiße Rhythmen und Gespür für die Authenzität des Soul der 60er Jahre werden in einer lebendigen Show dargeboten.
URL:https://freiburgerschiff.de/event/do-12-06-2025-2000-uhr-fire-of-soul/
LOCATION:Schiff Gewölbekeller\, Schwarzwaldstr. 82\, Freiburg\, 79102\, Deutschland
CATEGORIES:Konzert
ATTACH;FMTTYPE=image/jpeg:https://freiburgerschiff.de/wp-content/uploads/2025/05/Fire-of-soul-FBA.jpg
ORGANIZER;CN="Freiburger Blues Association e. V.":MAILTO:info@f-b-a.org
END:VEVENT
BEGIN:VEVENT
DTSTART;TZID=Europe/Berlin:20250619T200000
DTEND;TZID=Europe/Berlin:20250619T220000
DTSTAMP:20260422T122042
CREATED:20250618T222050Z
LAST-MODIFIED:20250618T222145Z
UID:13254-1750363200-1750370400@freiburgerschiff.de
SUMMARY:Do.\, 19.06.2025\, 20:00 Uhr: Fun enough
DESCRIPTION:Der treibende Beat steht im Mittelpunkt des Bandkonzeptes. Da bleibt garantiert kein Bein am Boden und es darf „abgefeiert“ werden. \nDafür sorgen: Mike Schneider (voc)\, Ingmar Winkler (git)\, Matthias Daneck (dr) und Rainer Trendelenburg (b).
URL:https://freiburgerschiff.de/event/do-19-06-2025-2000-uhr-fun-enough/
LOCATION:Schiff Gewölbekeller\, Schwarzwaldstr. 82\, Freiburg\, 79102\, Deutschland
CATEGORIES:Konzert
ATTACH;FMTTYPE=image/jpeg:https://freiburgerschiff.de/wp-content/uploads/2025/06/Fun-enough_2025.jpg
ORGANIZER;CN="Freiburger Blues Association e. V.":MAILTO:info@f-b-a.org
END:VEVENT
BEGIN:VEVENT
DTSTART;TZID=Europe/Berlin:20250629T200000
DTEND;TZID=Europe/Berlin:20250629T220000
DTSTAMP:20260422T122042
CREATED:20250625T222259Z
LAST-MODIFIED:20250625T222411Z
UID:13273-1751227200-1751234400@freiburgerschiff.de
SUMMARY:Sonntag\, 29.06.2025 ab 20h:  Dave Goodman & Groove Minister Röttger
DESCRIPTION:Goodman & Röttger verblüffen nicht nur durch ihre einzigartigen musikalischen Fähigkeiten. Ihr interaktives Zusammenspiel ist ein musikalisches Erlebnis\, was dieses Duo wie eine ganze Band klingen lässt. Eintritt 22€ \nWelcome on board !
URL:https://freiburgerschiff.de/event/sonntag-29-06-2025-ab-20h-dave-goodman-groove-minister-roettger/
LOCATION:Schiff Gewölbekeller\, Schwarzwaldstr. 82\, Freiburg\, 79102\, Deutschland
CATEGORIES:Konzert
ATTACH;FMTTYPE=image/jpeg:https://freiburgerschiff.de/wp-content/uploads/2025/06/GoodmanRoettger-2025-1.jpeg
ORGANIZER;CN="Gasthaus Schiff":MAILTO:kultur@freiburgerschiff.de
END:VEVENT
END:VCALENDAR