BEGIN:VCALENDAR
VERSION:2.0
PRODID:-//Gasthaus Schiff - ECPv6.15.20//NONSGML v1.0//EN
CALSCALE:GREGORIAN
METHOD:PUBLISH
X-WR-CALNAME:Gasthaus Schiff
X-ORIGINAL-URL:https://freiburgerschiff.de
X-WR-CALDESC:Veranstaltungen für Gasthaus Schiff
REFRESH-INTERVAL;VALUE=DURATION:PT1H
X-Robots-Tag:noindex
X-PUBLISHED-TTL:PT1H
BEGIN:VTIMEZONE
TZID:Europe/Berlin
BEGIN:DAYLIGHT
TZOFFSETFROM:+0100
TZOFFSETTO:+0200
TZNAME:CEST
DTSTART:20240331T010000
END:DAYLIGHT
BEGIN:STANDARD
TZOFFSETFROM:+0200
TZOFFSETTO:+0100
TZNAME:CET
DTSTART:20241027T010000
END:STANDARD
BEGIN:DAYLIGHT
TZOFFSETFROM:+0100
TZOFFSETTO:+0200
TZNAME:CEST
DTSTART:20250330T010000
END:DAYLIGHT
BEGIN:STANDARD
TZOFFSETFROM:+0200
TZOFFSETTO:+0100
TZNAME:CET
DTSTART:20251026T010000
END:STANDARD
BEGIN:DAYLIGHT
TZOFFSETFROM:+0100
TZOFFSETTO:+0200
TZNAME:CEST
DTSTART:20260329T010000
END:DAYLIGHT
BEGIN:STANDARD
TZOFFSETFROM:+0200
TZOFFSETTO:+0100
TZNAME:CET
DTSTART:20261025T010000
END:STANDARD
END:VTIMEZONE
BEGIN:VEVENT
DTSTART;TZID=Europe/Berlin:20250508T200000
DTEND;TZID=Europe/Berlin:20250508T223000
DTSTAMP:20260422T134110
CREATED:20250507T010528Z
LAST-MODIFIED:20250507T010529Z
UID:13092-1746734400-1746743400@freiburgerschiff.de
SUMMARY:Do.\, 08.05.2025\, 20:00 Uhr: Don Ender
DESCRIPTION:Er spielt den Blues in allen seinen Schattierungen. Rock\, Southern Rock\, Rhythm & Blues und Soul.\nDie Einflüsse von Gregg Allman\, Eric Clapton\, Jimi Hendrix\, Warren Haynes\, Derek Trucks oder John Mayer hat er zu seinem ureigenen Stil emuliert\, der unverkennbar Don Ender ist.
URL:https://freiburgerschiff.de/event/do-08-05-2025-2000-uhr-don-ender/
LOCATION:Schiff Gewölbekeller\, Schwarzwaldstr. 82\, Freiburg\, 79102\, Deutschland
CATEGORIES:Konzert
ATTACH;FMTTYPE=image/jpeg:https://freiburgerschiff.de/wp-content/uploads/2025/05/Don-Ender-FBA.jpg
ORGANIZER;CN="Freiburger Blues Association e. V.":MAILTO:info@f-b-a.org
END:VEVENT
BEGIN:VEVENT
DTSTART;TZID=Europe/Berlin:20250515T200000
DTEND;TZID=Europe/Berlin:20250515T223000
DTSTAMP:20260422T134110
CREATED:20250507T011044Z
LAST-MODIFIED:20250507T011044Z
UID:13097-1747339200-1747348200@freiburgerschiff.de
SUMMARY:Do.\, 15.05.2025\, 20:00 Uhr: Gangster of Love
DESCRIPTION:Frontfrau und Sängerin Pia Zaschke nimmt uns mit auf die Reise mit Van Morrison\, Etta James\, John Mayer\, Boneshakers\, Robben Ford\, Joe Bonamassa\, Amy Winehouse\, Shemekia Copeland\, Noora Noor\, Bill Withers\, Stevie Wonder und Peter Cincotti. \nPia Zaschke (voc.)\, Gerd Neumann (git./voc.)\, Berthold Blau (dr.) und Rainer Trendelenburg (b.).
URL:https://freiburgerschiff.de/event/do-15-05-2025-2000-uhr-gangster-of-love/
LOCATION:Schiff Gewölbekeller\, Schwarzwaldstr. 82\, Freiburg\, 79102\, Deutschland
CATEGORIES:Konzert
ATTACH;FMTTYPE=image/jpeg:https://freiburgerschiff.de/wp-content/uploads/2025/05/Gangster-of-Love-FBA.jpg
ORGANIZER;CN="Freiburger Blues Association e. V.":MAILTO:info@f-b-a.org
END:VEVENT
BEGIN:VEVENT
DTSTART;TZID=Europe/Berlin:20250522T200000
DTEND;TZID=Europe/Berlin:20250522T223000
DTSTAMP:20260422T134110
CREATED:20250507T011537Z
LAST-MODIFIED:20250507T011537Z
UID:13103-1747944000-1747953000@freiburgerschiff.de
SUMMARY:Do.\, 22.05.2025\, 20:00 Uhr: Boogie Project
DESCRIPTION:Vier hervorragende Musiker präsentieren Boogie Woogie Blues & Rock`n Roll vom feinsten. Diese Band hat sich schnell einen Namen als Vertreter von guten Boogie-Woogie gemacht hat. Hand gestrickte Musik Pur in angenehmer Lautstärke\, verbunden mit Spielfreude und guter Laune. \nGarantie für gelungene Konzerte die meistens mit reichlich Zugaben enden. Let the good times roll.
URL:https://freiburgerschiff.de/event/do-22-05-2025-2000-uhr-boogie-project/
LOCATION:Schiff Gewölbekeller\, Schwarzwaldstr. 82\, Freiburg\, 79102\, Deutschland
CATEGORIES:Konzert
ATTACH;FMTTYPE=image/jpeg:https://freiburgerschiff.de/wp-content/uploads/2025/05/Boogie-Project-FBA.jpg
ORGANIZER;CN="Freiburger Blues Association e. V.":MAILTO:info@f-b-a.org
END:VEVENT
BEGIN:VEVENT
DTSTART;TZID=Europe/Berlin:20250523T190000
DTEND;TZID=Europe/Berlin:20250523T220000
DTSTAMP:20260422T134110
CREATED:20250517T023925Z
LAST-MODIFIED:20250517T023926Z
UID:13154-1748026800-1748037600@freiburgerschiff.de
SUMMARY:Freitag\, 23.5.2025 KAREN LEE ANDREWS & Snooks
DESCRIPTION:Karen Lee Andrews ist eine australische Sängerin und Multi-Instrumentalistin\, die über einen ausgeprägten Sinn für künstlerische Ziele verfügt. \nDa sie ihr ganzes Leben lang von Musik umgeben war\, drehte sich Karens Karriere bisher hauptsächlich um klassische Soul- und Rhythm-and-Blues-Klänge.\nDoch in den letzten Jahren hat sich ihre Musikalität weiterentwickelt und sie hat sich mehr dem Blues zugewandt. Die Einflüsse von Soul\, Gospel und Karens polynesischem Hintergrund prägen nach wie vor ihr Schaffen\, aber der Blues fühlt sich inzwischen mehr wie ein Zuhause an. \nAndrews tourt meist als formidables Trio\, das sich mit Yanya Boston am Schlagzeug und Adam Ventoura am Bass – zwei außergewöhnlichen Musikern – zusammengetan hat. Diese dynamische Band zu erleben ist berauschend! \n„Soulful und bluesig\, mit so viel Herz und Schmerz\, vorgetragen mit so viel Klasse“.\nKlang von Oz
URL:https://freiburgerschiff.de/event/freitag-23-5-2025-karen-lee-andrews-snooks/
LOCATION:Schiff Gewölbekeller\, Schwarzwaldstr. 82\, Freiburg\, 79102\, Deutschland
CATEGORIES:Konzert
ATTACH;FMTTYPE=image/jpeg:https://freiburgerschiff.de/wp-content/uploads/2025/05/Karen-Lee-Andrews-Kulturschiff.jpg
ORGANIZER;CN="Chickenhill Culture Club e.V.":MAILTO:mike@thechickenhillcultureclub.com
END:VEVENT
BEGIN:VEVENT
DTSTART;TZID=Europe/Berlin:20250525T163000
DTEND;TZID=Europe/Berlin:20250525T210000
DTSTAMP:20260422T134110
CREATED:20250524T015737Z
LAST-MODIFIED:20250524T015737Z
UID:13187-1748190600-1748206800@freiburgerschiff.de
SUMMARY:Sonntag\, 25.05.2025   "Schiff on Fire" - Grill-Event ab 17h
DESCRIPTION:Willkommen an Bord zu unserem Grill-Event „Schiff on Fire“ – jeweils am letzten Sonntag im Monat ab 17h im Schiff-Biergarten. \nAn diesem Grill-Tag gibt es eine Sonderkarte mit Salaten\, Grill- und Biergartengerichten – auch für Vegetarier. \n 
URL:https://freiburgerschiff.de/event/sonntag-25-05-2025-schiff-on-fire-grill-event-ab-17h/
LOCATION:Schiff Biergarten\, Schwarzwaldstr. 82\, Freiburg\, 79102\, Deutschland
ATTACH;FMTTYPE=image/jpeg:https://freiburgerschiff.de/wp-content/uploads/2025/05/25-05-25-Grillkarte-s2.jpg
ORGANIZER;CN="Gasthaus Schiff":MAILTO:kultur@freiburgerschiff.de
END:VEVENT
BEGIN:VEVENT
DTSTART;TZID=Europe/Berlin:20250528T200000
DTEND;TZID=Europe/Berlin:20250528T223000
DTSTAMP:20260422T134110
CREATED:20250507T011811Z
LAST-MODIFIED:20250507T011811Z
UID:13106-1748462400-1748471400@freiburgerschiff.de
SUMMARY:Mi.\, 28.05.2025\, 20:00 Uhr: New Constellation Kitchen - Jam Session
DESCRIPTION:Der Jam-Abend für Musiker. Mit 6-8 Songs zum Mitjammen. Titel und Begleitband werden hier und auf FBA Facebook veröffentlicht. \nAnmeldungen bitte an rt@f-b-a.org
URL:https://freiburgerschiff.de/event/mi-28-05-2025-2000-uhr-new-constellation-kitchen-jam-session/
LOCATION:Schiff Gewölbekeller\, Schwarzwaldstr. 82\, Freiburg\, 79102\, Deutschland
CATEGORIES:Konzert
ATTACH;FMTTYPE=image/jpeg:https://freiburgerschiff.de/wp-content/uploads/2024/12/25-01-29-NCK-fb_banner_2019-JPG.jpg
ORGANIZER;CN="Freiburger Blues Association e. V.":MAILTO:info@f-b-a.org
END:VEVENT
BEGIN:VEVENT
DTSTART;TZID=Europe/Berlin:20250529T200000
DTEND;TZID=Europe/Berlin:20250529T223000
DTSTAMP:20260422T134110
CREATED:20250507T012146Z
LAST-MODIFIED:20250507T012146Z
UID:13108-1748548800-1748557800@freiburgerschiff.de
SUMMARY:Do.\, 29.05.2025\, 20:00 Uhr: Oops a Daisy
DESCRIPTION:Das ist wenn dein Herz pumpt\, die Hüfte wippt und dein Sneaker dem Takt des Beats kaum widerstehen kann. Ob mitreißend\, behutsam oder unerhört\, der Groove dringt bis ins Rückenmark und beglückt dich mit einem Cocktail von Adrenalin und „Ich will mehr“ mit Frank Schuckelt\n(goc.\,git.\, perc.)\, Mathias Birmele (b.\, voc.) Roland Micke (dr.\, voc)\, Michael Weber (keys.) und Sven Bauer(git.\, voc.).
URL:https://freiburgerschiff.de/event/do-29-05-2025-2000-uhr-oops-a-daisy/
LOCATION:Schiff Gewölbekeller\, Schwarzwaldstr. 82\, Freiburg\, 79102\, Deutschland
CATEGORIES:Konzert
ATTACH;FMTTYPE=image/jpeg:https://freiburgerschiff.de/wp-content/uploads/2025/05/Oops-a-Daisy-FBA.jpg
ORGANIZER;CN="Freiburger Blues Association e. V.":MAILTO:info@f-b-a.org
END:VEVENT
END:VCALENDAR