BEGIN:VCALENDAR
VERSION:2.0
PRODID:-//Gasthaus Schiff - ECPv6.15.20//NONSGML v1.0//EN
CALSCALE:GREGORIAN
METHOD:PUBLISH
X-WR-CALNAME:Gasthaus Schiff
X-ORIGINAL-URL:https://freiburgerschiff.de
X-WR-CALDESC:Veranstaltungen für Gasthaus Schiff
REFRESH-INTERVAL;VALUE=DURATION:PT1H
X-Robots-Tag:noindex
X-PUBLISHED-TTL:PT1H
BEGIN:VTIMEZONE
TZID:Europe/Berlin
BEGIN:DAYLIGHT
TZOFFSETFROM:+0100
TZOFFSETTO:+0200
TZNAME:CEST
DTSTART:20240331T010000
END:DAYLIGHT
BEGIN:STANDARD
TZOFFSETFROM:+0200
TZOFFSETTO:+0100
TZNAME:CET
DTSTART:20241027T010000
END:STANDARD
BEGIN:DAYLIGHT
TZOFFSETFROM:+0100
TZOFFSETTO:+0200
TZNAME:CEST
DTSTART:20250330T010000
END:DAYLIGHT
BEGIN:STANDARD
TZOFFSETFROM:+0200
TZOFFSETTO:+0100
TZNAME:CET
DTSTART:20251026T010000
END:STANDARD
BEGIN:DAYLIGHT
TZOFFSETFROM:+0100
TZOFFSETTO:+0200
TZNAME:CEST
DTSTART:20260329T010000
END:DAYLIGHT
BEGIN:STANDARD
TZOFFSETFROM:+0200
TZOFFSETTO:+0100
TZNAME:CET
DTSTART:20261025T010000
END:STANDARD
END:VTIMEZONE
BEGIN:VEVENT
DTSTART;TZID=Europe/Berlin:20250109T200000
DTEND;TZID=Europe/Berlin:20250109T223000
DTSTAMP:20260422T192519
CREATED:20241229T201153Z
LAST-MODIFIED:20241229T202036Z
UID:12494-1736452800-1736461800@freiburgerschiff.de
SUMMARY:Rigman
DESCRIPTION:Ingmar Winklers Songs erzählen von Zweiflern\, Liebenden und Geschundenen\, beschreiben das\nSchöne und das Dunkle. Und immer wieder steht die Gitarre bei den Solostücken virtuos im\nVordergrund. Mal jazzig\, mal latin-angehaucht. \nMit dabei sind Christian Armin (b.) und Matthias Daneck (dr.)
URL:https://freiburgerschiff.de/event/do-09-01-2025-2000-uhr-rigman/
LOCATION:Schiff Gewölbekeller\, Schwarzwaldstr. 82\, Freiburg\, 79102\, Deutschland
CATEGORIES:Konzert
ATTACH;FMTTYPE=image/jpeg:https://freiburgerschiff.de/wp-content/uploads/2024/12/25-01-09-Rigman-ingmar-JPG.jpeg
ORGANIZER;CN="Freiburger Blues Association e. V.":MAILTO:info@f-b-a.org
END:VEVENT
BEGIN:VEVENT
DTSTART;TZID=Europe/Berlin:20250129T200000
DTEND;TZID=Europe/Berlin:20250129T223000
DTSTAMP:20260422T192519
CREATED:20241229T202931Z
LAST-MODIFIED:20241229T202931Z
UID:12511-1738180800-1738189800@freiburgerschiff.de
SUMMARY:New Constellation Kitchen - Jam Session
DESCRIPTION:Der Jam-Abend für Musiker. Mit 6-8 Songs zum Mitjammen. \nDie Skeleton Crew sind: Manuel Köhler (Drums / Voc)\, Max Bambey (Bass / Voc)\, Burkhard Finkh (Keyes / Voc) und Dominik Lohmann (Git / Voc).\nAnmeldungen zum Mitspielen bitte an: dominik.lohmann(AT)t-online.de \nUnd das sind die Songs: \nBuddy Guy  What Kind Of Woman Is This \nhttps://www.youtube.com/watch?v=9mFrpsyh_JU&list=PLrCarexEj5VcO0KpEqsIzZQa1UGrZtF2j \nThe Four Tops    Sugar Pie\, Honey Bunch    https://www.youtube.com/watch?v=EBA6z9sEzAo \nJames Brown   I Got You (I Feel Good)    https://www.youtube.com/watch?v=W-rn7i_ETYc \nBB King    Things And Chains   https://www.youtube.com/watch?v=2otZcaOQxCY \n  \nLee Michaels   Do You Know What I Mean  https://www.youtube.com/watch?v=YY9iVKQPeXA \nKoko Taylor    Wang Dang Doodle  https://www.youtube.com/watch?v=X4xum7FVPh8 \nLenny Kravitz    Always On The Run   https://www.youtube.com/watch?v=SlU_NlX-9Lg \nBill Withers Bill Withers   Lovely Day   https://www.youtube.com/watch?v=bEeaS6fuUoA
URL:https://freiburgerschiff.de/event/new-constellation-kitchen-jam-session/
LOCATION:Schiff Gewölbekeller\, Schwarzwaldstr. 82\, Freiburg\, 79102\, Deutschland
CATEGORIES:Konzert
ATTACH;FMTTYPE=image/jpeg:https://freiburgerschiff.de/wp-content/uploads/2024/12/25-01-29-NCK-fb_banner_2019-JPG.jpg
ORGANIZER;CN="Freiburger Blues Association e. V.":MAILTO:info@f-b-a.org
END:VEVENT
END:VCALENDAR