BEGIN:VCALENDAR
VERSION:2.0
PRODID:-//Gasthaus Schiff - ECPv6.15.20//NONSGML v1.0//EN
CALSCALE:GREGORIAN
METHOD:PUBLISH
X-WR-CALNAME:Gasthaus Schiff
X-ORIGINAL-URL:https://freiburgerschiff.de
X-WR-CALDESC:Veranstaltungen für Gasthaus Schiff
REFRESH-INTERVAL;VALUE=DURATION:PT1H
X-Robots-Tag:noindex
X-PUBLISHED-TTL:PT1H
BEGIN:VTIMEZONE
TZID:Europe/Berlin
BEGIN:DAYLIGHT
TZOFFSETFROM:+0100
TZOFFSETTO:+0200
TZNAME:CEST
DTSTART:20240331T010000
END:DAYLIGHT
BEGIN:STANDARD
TZOFFSETFROM:+0200
TZOFFSETTO:+0100
TZNAME:CET
DTSTART:20241027T010000
END:STANDARD
BEGIN:DAYLIGHT
TZOFFSETFROM:+0100
TZOFFSETTO:+0200
TZNAME:CEST
DTSTART:20250330T010000
END:DAYLIGHT
BEGIN:STANDARD
TZOFFSETFROM:+0200
TZOFFSETTO:+0100
TZNAME:CET
DTSTART:20251026T010000
END:STANDARD
BEGIN:DAYLIGHT
TZOFFSETFROM:+0100
TZOFFSETTO:+0200
TZNAME:CEST
DTSTART:20260329T010000
END:DAYLIGHT
BEGIN:STANDARD
TZOFFSETFROM:+0200
TZOFFSETTO:+0100
TZNAME:CET
DTSTART:20261025T010000
END:STANDARD
END:VTIMEZONE
BEGIN:VEVENT
DTSTART;TZID=Europe/Berlin:20250501T200000
DTEND;TZID=Europe/Berlin:20250501T223000
DTSTAMP:20260425T014739
CREATED:20250401T232914Z
LAST-MODIFIED:20250401T232914Z
UID:12960-1746129600-1746138600@freiburgerschiff.de
SUMMARY:Do.\, 01.05.2025\, 20:00 Uhr: FBA-Member Band
DESCRIPTION:Die Freiburger Blues Association lädt ein: Erleben Sie den einmaligen gemeinsamen Auftritt von angesagten und weniger bekannten Musiker-Mitglieder des FBA. In wechselnder Besetzung präsentieren sie ein abwechslungsreiches Programm von Blues\, Rock\, Funk bis hin zum Soul.
URL:https://freiburgerschiff.de/event/do-01-05-2025-2000-uhr-fba-member-band/
LOCATION:Schiff Gewölbekeller\, Schwarzwaldstr. 82\, Freiburg\, 79102\, Deutschland
CATEGORIES:Konzert
ATTACH;FMTTYPE=image/jpeg:https://freiburgerschiff.de/wp-content/uploads/2025/04/FBA-Memberband-klein.jpg
ORGANIZER;CN="Freiburger Blues Association e. V.":MAILTO:info@f-b-a.org
END:VEVENT
END:VCALENDAR